BEGIN:VCALENDAR
VERSION:2.0
PRODID:-//Chaska Heights Senior Living - ECPv6.11.2.1//NONSGML v1.0//EN
CALSCALE:GREGORIAN
METHOD:PUBLISH
X-WR-CALNAME:Chaska Heights Senior Living
X-ORIGINAL-URL:https://chaskaheights.com
X-WR-CALDESC:Events for Chaska Heights Senior Living
REFRESH-INTERVAL;VALUE=DURATION:PT1H
X-Robots-Tag:noindex
X-PUBLISHED-TTL:PT1H
BEGIN:VTIMEZONE
TZID:America/Chicago
BEGIN:DAYLIGHT
TZOFFSETFROM:-0600
TZOFFSETTO:-0500
TZNAME:CDT
DTSTART:20250309T080000
END:DAYLIGHT
BEGIN:STANDARD
TZOFFSETFROM:-0500
TZOFFSETTO:-0600
TZNAME:CST
DTSTART:20251102T070000
END:STANDARD
END:VTIMEZONE
BEGIN:VEVENT
DTSTART;TZID=America/Chicago:20250714T130000
DTEND;TZID=America/Chicago:20250714T140000
DTSTAMP:20260419T204420
CREATED:20250614T203719Z
LAST-MODIFIED:20250713T235209Z
UID:10000809-1752498000-1752501600@chaskaheights.com
SUMMARY:CH Writers Club
DESCRIPTION:
URL:https://chaskaheights.com/event-calendar/ch-writers-club-4/
LOCATION:Johnathon Room
CATEGORIES:Independent and Assisted Living
END:VEVENT
BEGIN:VEVENT
DTSTART;TZID=America/Chicago:20250705T103000
DTEND;TZID=America/Chicago:20250705T113000
DTSTAMP:20260419T204420
CREATED:20250605T200648Z
LAST-MODIFIED:20250704T232317Z
UID:10000698-1751711400-1751715000@chaskaheights.com
SUMMARY:Art Club
DESCRIPTION:We have many reasons to engage with the arts\, but the most important is probably to enhance the quality of our lives. Engaging in any creative pursuit is good for your mind. So\, join our group led by Naomi and Paige every other Saturday to experience the many benefits of art\, including improvements to memory\, stress management\, and cognitive function\, as well as a healthy dose of fun. Let’s get creative!
URL:https://chaskaheights.com/event-calendar/art-club-3/
LOCATION:Johnathon Room
CATEGORIES:Independent and Assisted Living
END:VEVENT
BEGIN:VEVENT
DTSTART;TZID=America/Chicago:20250623T130000
DTEND;TZID=America/Chicago:20250623T140000
DTSTAMP:20260419T204420
CREATED:20250524T184114Z
LAST-MODIFIED:20250622T232332Z
UID:10000540-1750683600-1750687200@chaskaheights.com
SUMMARY:CH Writers Club
DESCRIPTION:
URL:https://chaskaheights.com/event-calendar/ch-writers-club-3/
LOCATION:Johnathon Room
CATEGORIES:Independent and Assisted Living
END:VEVENT
BEGIN:VEVENT
DTSTART;TZID=America/Chicago:20250609T130000
DTEND;TZID=America/Chicago:20250609T140000
DTSTAMP:20260419T204420
CREATED:20250513T165143Z
LAST-MODIFIED:20250608T202212Z
UID:10000148-1749474000-1749477600@chaskaheights.com
SUMMARY:CH Writers Club
DESCRIPTION:
URL:https://chaskaheights.com/event-calendar/ch-writers-club-2/
LOCATION:Johnathon Room
CATEGORIES:Independent and Assisted Living
END:VEVENT
BEGIN:VEVENT
DTSTART;TZID=America/Chicago:20250607T103000
DTEND;TZID=America/Chicago:20250607T113000
DTSTAMP:20260419T204420
CREATED:20250513T165138Z
LAST-MODIFIED:20250606T200706Z
UID:10000131-1749292200-1749295800@chaskaheights.com
SUMMARY:Art Club
DESCRIPTION:We have many reasons to engage with the arts\, but the most important is probably to enhance the quality of our lives. Engaging in any creative pursuit is good for your mind. So\, join our group led by Naomi and Paige every other Saturday to experience the many benefits of art\, including improvements to memory\, stress management\, and cognitive function\, as well as a healthy dose of fun. Let’s get creative!
URL:https://chaskaheights.com/event-calendar/art-club/
LOCATION:Johnathon Room
CATEGORIES:Independent and Assisted Living
END:VEVENT
BEGIN:VEVENT
DTSTART;TZID=America/Chicago:20250526T130000
DTEND;TZID=America/Chicago:20250526T140000
DTSTAMP:20260419T204420
CREATED:20250513T165055Z
LAST-MODIFIED:20250525T185159Z
UID:10000064-1748264400-1748268000@chaskaheights.com
SUMMARY:CH Writers Club
DESCRIPTION:
URL:https://chaskaheights.com/event-calendar/ch-writers-club/
LOCATION:Johnathon Room
CATEGORIES:Independent and Assisted Living
END:VEVENT
BEGIN:VEVENT
DTSTART;TZID=America/Chicago:20250524T103000
DTEND;TZID=America/Chicago:20250524T113000
DTSTAMP:20260419T204420
CREATED:20250519T180728Z
LAST-MODIFIED:20250523T182246Z
UID:10000479-1748082600-1748086200@chaskaheights.com
SUMMARY:Art Club
DESCRIPTION:
URL:https://chaskaheights.com/event-calendar/art-club-2/
LOCATION:Johnathon Room
CATEGORIES:Independent and Assisted Living
END:VEVENT
END:VCALENDAR