BEGIN:VCALENDAR
VERSION:2.0
PRODID:-//Chaska Heights Senior Living - ECPv6.11.2.1//NONSGML v1.0//EN
CALSCALE:GREGORIAN
METHOD:PUBLISH
X-WR-CALNAME:Chaska Heights Senior Living
X-ORIGINAL-URL:https://chaskaheights.com
X-WR-CALDESC:Events for Chaska Heights Senior Living
REFRESH-INTERVAL;VALUE=DURATION:PT1H
X-Robots-Tag:noindex
X-PUBLISHED-TTL:PT1H
BEGIN:VTIMEZONE
TZID:America/Chicago
BEGIN:DAYLIGHT
TZOFFSETFROM:-0600
TZOFFSETTO:-0500
TZNAME:CDT
DTSTART:20250309T080000
END:DAYLIGHT
BEGIN:STANDARD
TZOFFSETFROM:-0500
TZOFFSETTO:-0600
TZNAME:CST
DTSTART:20251102T070000
END:STANDARD
END:VTIMEZONE
BEGIN:VEVENT
DTSTART;TZID=America/Chicago:20251222T130000
DTEND;TZID=America/Chicago:20251222T140000
DTSTAMP:20260419T174153
CREATED:20251123T050652Z
LAST-MODIFIED:20251222T012147Z
UID:10002905-1766408400-1766412000@chaskaheights.com
SUMMARY:CH Writers Club
DESCRIPTION:
URL:https://chaskaheights.com/event-calendar/ch-writers-club-17/
LOCATION:Johnathon Room
CATEGORIES:Independent and Assisted Living
END:VEVENT
BEGIN:VEVENT
DTSTART;TZID=America/Chicago:20251213T103000
DTEND;TZID=America/Chicago:20251213T113000
DTSTAMP:20260419T174153
CREATED:20251114T043652Z
LAST-MODIFIED:20251213T003647Z
UID:10002800-1765621800-1765625400@chaskaheights.com
SUMMARY:Art Club
DESCRIPTION:We have many reasons to engage with the arts\, but the most important is probably to enhance the quality of our lives. Engaging in any creative pursuit is good for your mind. So\, join our group led by Jessica once a month on Saturday to experience the many benefits of art\, including improvements to memory\, stress management\, and cognitive function\, as well as a healthy dose of fun. Let’s get creative!
URL:https://chaskaheights.com/event-calendar/art-club-11/
LOCATION:Johnathon Room
CATEGORIES:Independent and Assisted Living
END:VEVENT
BEGIN:VEVENT
DTSTART;TZID=America/Chicago:20251208T130000
DTEND;TZID=America/Chicago:20251208T140000
DTSTAMP:20260419T174154
CREATED:20251109T043654Z
LAST-MODIFIED:20251208T002153Z
UID:10002775-1765198800-1765202400@chaskaheights.com
SUMMARY:CH Writers Club
DESCRIPTION:
URL:https://chaskaheights.com/event-calendar/ch-writers-club-16/
LOCATION:Johnathon Room
CATEGORIES:Independent and Assisted Living
END:VEVENT
BEGIN:VEVENT
DTSTART;TZID=America/Chicago:20251124T130000
DTEND;TZID=America/Chicago:20251124T140000
DTSTAMP:20260419T174154
CREATED:20251026T032433Z
LAST-MODIFIED:20251124T050648Z
UID:10002527-1763989200-1763992800@chaskaheights.com
SUMMARY:CH Writers Club
DESCRIPTION:
URL:https://chaskaheights.com/event-calendar/ch-writers-club-15/
LOCATION:Johnathon Room
CATEGORIES:Independent and Assisted Living
END:VEVENT
BEGIN:VEVENT
DTSTART;TZID=America/Chicago:20251110T130000
DTEND;TZID=America/Chicago:20251110T140000
DTSTAMP:20260419T174154
CREATED:20251012T023700Z
LAST-MODIFIED:20251110T043649Z
UID:10002284-1762779600-1762783200@chaskaheights.com
SUMMARY:CH Writers Club
DESCRIPTION:
URL:https://chaskaheights.com/event-calendar/ch-writers-club-12/
LOCATION:Johnathon Room
CATEGORIES:Independent and Assisted Living
END:VEVENT
BEGIN:VEVENT
DTSTART;TZID=America/Chicago:20251108T103000
DTEND;TZID=America/Chicago:20251108T113000
DTSTAMP:20260419T174154
CREATED:20251010T023704Z
LAST-MODIFIED:20251108T043645Z
UID:10002272-1762597800-1762601400@chaskaheights.com
SUMMARY:Art Club
DESCRIPTION:We have many reasons to engage with the arts\, but the most important is probably to enhance the quality of our lives. Engaging in any creative pursuit is good for your mind. So\, join our group led by Jessica once a month on Saturday to experience the many benefits of art\, including improvements to memory\, stress management\, and cognitive function\, as well as a healthy dose of fun. Let’s get creative!
URL:https://chaskaheights.com/event-calendar/art-club-10/
LOCATION:Johnathon Room
CATEGORIES:Independent and Assisted Living
END:VEVENT
BEGIN:VEVENT
DTSTART;TZID=America/Chicago:20251103T130000
DTEND;TZID=America/Chicago:20251103T140000
DTSTAMP:20260419T174154
CREATED:20251014T025447Z
LAST-MODIFIED:20251015T025147Z
UID:10002313-1762174800-1762178400@chaskaheights.com
SUMMARY:CH Writers Club
DESCRIPTION:
URL:https://chaskaheights.com/event-calendar/ch-writers-club-13/
LOCATION:Johnathon Room
CATEGORIES:Independent and Assisted Living
END:VEVENT
BEGIN:VEVENT
DTSTART;TZID=America/Chicago:20251027T130000
DTEND;TZID=America/Chicago:20251027T140000
DTSTAMP:20260419T174154
CREATED:20251016T030646Z
LAST-MODIFIED:20251027T035150Z
UID:10002353-1761570000-1761573600@chaskaheights.com
SUMMARY:CH Writers Club
DESCRIPTION:
URL:https://chaskaheights.com/event-calendar/ch-writers-club-14/
LOCATION:Johnathon Room
CATEGORIES:Independent and Assisted Living
END:VEVENT
BEGIN:VEVENT
DTSTART;TZID=America/Chicago:20251020T130000
DTEND;TZID=America/Chicago:20251020T140000
DTSTAMP:20260419T174154
CREATED:20250921T015151Z
LAST-MODIFIED:20251015T025144Z
UID:10001976-1760965200-1760968800@chaskaheights.com
SUMMARY:CH Writers Club
DESCRIPTION:
URL:https://chaskaheights.com/event-calendar/ch-writers-club-10/
LOCATION:Johnathon Room
CATEGORIES:Independent and Assisted Living
END:VEVENT
BEGIN:VEVENT
DTSTART;TZID=America/Chicago:20251013T130000
DTEND;TZID=America/Chicago:20251013T140000
DTSTAMP:20260419T174154
CREATED:20250914T015156Z
LAST-MODIFIED:20251007T020648Z
UID:10001839-1760360400-1760364000@chaskaheights.com
SUMMARY:CH Writers Club
DESCRIPTION:
URL:https://chaskaheights.com/event-calendar/ch-writers-club-9/
LOCATION:Johnathon Room
CATEGORIES:Independent and Assisted Living
END:VEVENT
BEGIN:VEVENT
DTSTART;TZID=America/Chicago:20251011T103000
DTEND;TZID=America/Chicago:20251011T113000
DTSTAMP:20260419T174154
CREATED:20250912T015206Z
LAST-MODIFIED:20251011T023647Z
UID:10001827-1760178600-1760182200@chaskaheights.com
SUMMARY:Art Club
DESCRIPTION:We have many reasons to engage with the arts\, but the most important is probably to enhance the quality of our lives. Engaging in any creative pursuit is good for your mind. So\, join our group led by Jessica once a month on Saturday to experience the many benefits of art\, including improvements to memory\, stress management\, and cognitive function\, as well as a healthy dose of fun. Let’s get creative!
URL:https://chaskaheights.com/event-calendar/art-club-8/
LOCATION:Johnathon Room
CATEGORIES:Independent and Assisted Living
END:VEVENT
BEGIN:VEVENT
DTSTART;TZID=America/Chicago:20250922T130000
DTEND;TZID=America/Chicago:20250922T140000
DTSTAMP:20260419T174154
CREATED:20250824T010658Z
LAST-MODIFIED:20250922T015149Z
UID:10001576-1758546000-1758549600@chaskaheights.com
SUMMARY:CH Writers Club
DESCRIPTION:
URL:https://chaskaheights.com/event-calendar/ch-writers-club-8/
LOCATION:Johnathon Room
CATEGORIES:Independent and Assisted Living
END:VEVENT
BEGIN:VEVENT
DTSTART;TZID=America/Chicago:20250920T103000
DTEND;TZID=America/Chicago:20250920T113000
DTSTAMP:20260419T174154
CREATED:20250914T015149Z
LAST-MODIFIED:20250920T015156Z
UID:10001835-1758364200-1758367800@chaskaheights.com
SUMMARY:Art Club
DESCRIPTION:We have many reasons to engage with the arts\, but the most important is probably to enhance the quality of our lives. Engaging in any creative pursuit is good for your mind. So\, join our group led by Jessica once a month on Saturday to experience the many benefits of art\, including improvements to memory\, stress management\, and cognitive function\, as well as a healthy dose of fun. Let’s get creative!
URL:https://chaskaheights.com/event-calendar/art-club-9/
LOCATION:Johnathon Room
CATEGORIES:Independent and Assisted Living
END:VEVENT
BEGIN:VEVENT
DTSTART;TZID=America/Chicago:20250913T103000
DTEND;TZID=America/Chicago:20250913T113000
DTSTAMP:20260419T174154
CREATED:20250815T005232Z
LAST-MODIFIED:20250913T015145Z
UID:10001532-1757759400-1757763000@chaskaheights.com
SUMMARY:Art Club
DESCRIPTION:We have many reasons to engage with the arts\, but the most important is probably to enhance the quality of our lives. Engaging in any creative pursuit is good for your mind. So\, join our group led by Jessica once a month on Saturday to experience the many benefits of art\, including improvements to memory\, stress management\, and cognitive function\, as well as a healthy dose of fun. Let’s get creative!
URL:https://chaskaheights.com/event-calendar/art-club-6/
LOCATION:Johnathon Room
CATEGORIES:Independent and Assisted Living
END:VEVENT
BEGIN:VEVENT
DTSTART;TZID=America/Chicago:20250908T130000
DTEND;TZID=America/Chicago:20250908T140000
DTSTAMP:20260419T174154
CREATED:20250810T003650Z
LAST-MODIFIED:20250908T013647Z
UID:10001505-1757336400-1757340000@chaskaheights.com
SUMMARY:CH Writers Club
DESCRIPTION:
URL:https://chaskaheights.com/event-calendar/ch-writers-club-7/
LOCATION:Johnathon Room
CATEGORIES:Independent and Assisted Living
END:VEVENT
BEGIN:VEVENT
DTSTART;TZID=America/Chicago:20250906T103000
DTEND;TZID=America/Chicago:20250906T113000
DTSTAMP:20260419T174154
CREATED:20250808T002206Z
LAST-MODIFIED:20250811T003650Z
UID:10001498-1757154600-1757158200@chaskaheights.com
SUMMARY:Art Club
DESCRIPTION:We have many reasons to engage with the arts\, but the most important is probably to enhance the quality of our lives. Engaging in any creative pursuit is good for your mind. So\, join our group led by Naomi and Paige every other Saturday to experience the many benefits of art\, including improvements to memory\, stress management\, and cognitive function\, as well as a healthy dose of fun. Let’s get creative!
URL:https://chaskaheights.com/event-calendar/art-club-5/
LOCATION:Johnathon Room
CATEGORIES:Independent and Assisted Living
END:VEVENT
BEGIN:VEVENT
DTSTART;TZID=America/Chicago:20250830T103000
DTEND;TZID=America/Chicago:20250830T113000
DTSTAMP:20260419T174154
CREATED:20250816T005149Z
LAST-MODIFIED:20250830T012147Z
UID:10001535-1756549800-1756553400@chaskaheights.com
SUMMARY:Art Club
DESCRIPTION:
URL:https://chaskaheights.com/event-calendar/art-club-7/
LOCATION:Johnathon Room
CATEGORIES:Independent and Assisted Living
END:VEVENT
BEGIN:VEVENT
DTSTART;TZID=America/Chicago:20250825T130000
DTEND;TZID=America/Chicago:20250825T140000
DTSTAMP:20260419T174154
CREATED:20250729T000713Z
LAST-MODIFIED:20250825T012149Z
UID:10001400-1756126800-1756130400@chaskaheights.com
SUMMARY:CH Writers Club
DESCRIPTION:
URL:https://chaskaheights.com/event-calendar/ch-writers-club-6/
LOCATION:Johnathon Room
CATEGORIES:Independent and Assisted Living
END:VEVENT
BEGIN:VEVENT
DTSTART;TZID=America/Chicago:20250811T130000
DTEND;TZID=America/Chicago:20250811T140000
DTSTAMP:20260419T174154
CREATED:20250712T235150Z
LAST-MODIFIED:20250811T003647Z
UID:10001191-1754917200-1754920800@chaskaheights.com
SUMMARY:CH Writers Club
DESCRIPTION:
URL:https://chaskaheights.com/event-calendar/ch-writers-club-5/
LOCATION:Johnathon Room
CATEGORIES:Independent and Assisted Living
END:VEVENT
BEGIN:VEVENT
DTSTART;TZID=America/Chicago:20250802T103000
DTEND;TZID=America/Chicago:20250802T113000
DTSTAMP:20260419T174154
CREATED:20250703T232158Z
LAST-MODIFIED:20250802T000649Z
UID:10001066-1754130600-1754134200@chaskaheights.com
SUMMARY:Art Club
DESCRIPTION:We have many reasons to engage with the arts\, but the most important is probably to enhance the quality of our lives. Engaging in any creative pursuit is good for your mind. So\, join our group led by Naomi and Paige every other Saturday to experience the many benefits of art\, including improvements to memory\, stress management\, and cognitive function\, as well as a healthy dose of fun. Let’s get creative!
URL:https://chaskaheights.com/event-calendar/art-club-4/
LOCATION:Johnathon Room
CATEGORIES:Independent and Assisted Living
END:VEVENT
BEGIN:VEVENT
DTSTART;TZID=America/Chicago:20250714T130000
DTEND;TZID=America/Chicago:20250714T140000
DTSTAMP:20260419T174154
CREATED:20250614T203719Z
LAST-MODIFIED:20250713T235209Z
UID:10000809-1752498000-1752501600@chaskaheights.com
SUMMARY:CH Writers Club
DESCRIPTION:
URL:https://chaskaheights.com/event-calendar/ch-writers-club-4/
LOCATION:Johnathon Room
CATEGORIES:Independent and Assisted Living
END:VEVENT
BEGIN:VEVENT
DTSTART;TZID=America/Chicago:20250705T103000
DTEND;TZID=America/Chicago:20250705T113000
DTSTAMP:20260419T174154
CREATED:20250605T200648Z
LAST-MODIFIED:20250704T232317Z
UID:10000698-1751711400-1751715000@chaskaheights.com
SUMMARY:Art Club
DESCRIPTION:We have many reasons to engage with the arts\, but the most important is probably to enhance the quality of our lives. Engaging in any creative pursuit is good for your mind. So\, join our group led by Naomi and Paige every other Saturday to experience the many benefits of art\, including improvements to memory\, stress management\, and cognitive function\, as well as a healthy dose of fun. Let’s get creative!
URL:https://chaskaheights.com/event-calendar/art-club-3/
LOCATION:Johnathon Room
CATEGORIES:Independent and Assisted Living
END:VEVENT
BEGIN:VEVENT
DTSTART;TZID=America/Chicago:20250623T130000
DTEND;TZID=America/Chicago:20250623T140000
DTSTAMP:20260419T174154
CREATED:20250524T184114Z
LAST-MODIFIED:20250622T232332Z
UID:10000540-1750683600-1750687200@chaskaheights.com
SUMMARY:CH Writers Club
DESCRIPTION:
URL:https://chaskaheights.com/event-calendar/ch-writers-club-3/
LOCATION:Johnathon Room
CATEGORIES:Independent and Assisted Living
END:VEVENT
BEGIN:VEVENT
DTSTART;TZID=America/Chicago:20250609T130000
DTEND;TZID=America/Chicago:20250609T140000
DTSTAMP:20260419T174154
CREATED:20250513T165143Z
LAST-MODIFIED:20250608T202212Z
UID:10000148-1749474000-1749477600@chaskaheights.com
SUMMARY:CH Writers Club
DESCRIPTION:
URL:https://chaskaheights.com/event-calendar/ch-writers-club-2/
LOCATION:Johnathon Room
CATEGORIES:Independent and Assisted Living
END:VEVENT
BEGIN:VEVENT
DTSTART;TZID=America/Chicago:20250607T103000
DTEND;TZID=America/Chicago:20250607T113000
DTSTAMP:20260419T174154
CREATED:20250513T165138Z
LAST-MODIFIED:20250606T200706Z
UID:10000131-1749292200-1749295800@chaskaheights.com
SUMMARY:Art Club
DESCRIPTION:We have many reasons to engage with the arts\, but the most important is probably to enhance the quality of our lives. Engaging in any creative pursuit is good for your mind. So\, join our group led by Naomi and Paige every other Saturday to experience the many benefits of art\, including improvements to memory\, stress management\, and cognitive function\, as well as a healthy dose of fun. Let’s get creative!
URL:https://chaskaheights.com/event-calendar/art-club/
LOCATION:Johnathon Room
CATEGORIES:Independent and Assisted Living
END:VEVENT
BEGIN:VEVENT
DTSTART;TZID=America/Chicago:20250526T130000
DTEND;TZID=America/Chicago:20250526T140000
DTSTAMP:20260419T174154
CREATED:20250513T165055Z
LAST-MODIFIED:20250525T185159Z
UID:10000064-1748264400-1748268000@chaskaheights.com
SUMMARY:CH Writers Club
DESCRIPTION:
URL:https://chaskaheights.com/event-calendar/ch-writers-club/
LOCATION:Johnathon Room
CATEGORIES:Independent and Assisted Living
END:VEVENT
BEGIN:VEVENT
DTSTART;TZID=America/Chicago:20250524T103000
DTEND;TZID=America/Chicago:20250524T113000
DTSTAMP:20260419T174154
CREATED:20250519T180728Z
LAST-MODIFIED:20250523T182246Z
UID:10000479-1748082600-1748086200@chaskaheights.com
SUMMARY:Art Club
DESCRIPTION:
URL:https://chaskaheights.com/event-calendar/art-club-2/
LOCATION:Johnathon Room
CATEGORIES:Independent and Assisted Living
END:VEVENT
END:VCALENDAR