BEGIN:VCALENDAR
VERSION:2.0
PRODID:-//Chaska Heights Senior Living - ECPv6.11.2.1//NONSGML v1.0//EN
CALSCALE:GREGORIAN
METHOD:PUBLISH
X-ORIGINAL-URL:https://chaskaheights.com
X-WR-CALDESC:Events for Chaska Heights Senior Living
REFRESH-INTERVAL;VALUE=DURATION:PT1H
X-Robots-Tag:noindex
X-PUBLISHED-TTL:PT1H
BEGIN:VTIMEZONE
TZID:America/Chicago
BEGIN:DAYLIGHT
TZOFFSETFROM:-0600
TZOFFSETTO:-0500
TZNAME:CDT
DTSTART:20260308T080000
END:DAYLIGHT
BEGIN:STANDARD
TZOFFSETFROM:-0500
TZOFFSETTO:-0600
TZNAME:CST
DTSTART:20261101T070000
END:STANDARD
END:VTIMEZONE
BEGIN:VEVENT
DTSTART;TZID=America/Chicago:20260522T150000
DTEND;TZID=America/Chicago:20260522T160000
DTSTAMP:20260423T183859
CREATED:20260423T092203Z
LAST-MODIFIED:20260423T092203Z
UID:10005036-1779462000-1779465600@chaskaheights.com
SUMMARY:Ice Cream Bar
DESCRIPTION:
URL:https://chaskaheights.com/event-calendar/ice-cream-bar-17/
LOCATION:crosstown dining
CATEGORIES:Independent and Assisted Living
END:VEVENT
BEGIN:VEVENT
DTSTART;TZID=America/Chicago:20260522T154500
DTEND;TZID=America/Chicago:20260522T164500
DTSTAMP:20260423T183859
CREATED:20260423T092328Z
LAST-MODIFIED:20260423T092328Z
UID:10005044-1779464700-1779468300@chaskaheights.com
SUMMARY:Animal Antics- Badgers are Boss!
DESCRIPTION:Exploring the wonderful world of nature!
URL:https://chaskaheights.com/event-calendar/animal-antics-badgers-are-boss/
CATEGORIES:Memory Care
END:VEVENT
BEGIN:VEVENT
DTSTART;TZID=America/Chicago:20260522T164500
DTEND;TZID=America/Chicago:20260522T170000
DTSTAMP:20260423T183859
CREATED:20260423T092329Z
LAST-MODIFIED:20260423T092329Z
UID:10005045-1779468300-1779469200@chaskaheights.com
SUMMARY:OshiBori
DESCRIPTION:A hot/warm towel is given to each resident before each meal to clean their hands. This provides comfort\, cleanliness\, and practices different traditions.
URL:https://chaskaheights.com/event-calendar/oshibori-786/
LOCATION:Memory Care
CATEGORIES:Memory Care
END:VEVENT
BEGIN:VEVENT
DTSTART;TZID=America/Chicago:20260522T173000
DTEND;TZID=America/Chicago:20260522T173000
DTSTAMP:20260423T183859
CREATED:20260423T092203Z
LAST-MODIFIED:20260423T092203Z
UID:10005037-1779471000-1779471000@chaskaheights.com
SUMMARY:Prize Bingo
DESCRIPTION:
URL:https://chaskaheights.com/event-calendar/prize-bingo-52/
LOCATION:Crosstown Dining Room
CATEGORIES:Independent and Assisted Living
END:VEVENT
END:VCALENDAR