BEGIN:VCALENDAR
VERSION:2.0
PRODID:-//Chaska Heights Senior Living - ECPv6.11.2.1//NONSGML v1.0//EN
CALSCALE:GREGORIAN
METHOD:PUBLISH
X-ORIGINAL-URL:https://chaskaheights.com
X-WR-CALDESC:Events for Chaska Heights Senior Living
REFRESH-INTERVAL;VALUE=DURATION:PT1H
X-Robots-Tag:noindex
X-PUBLISHED-TTL:PT1H
BEGIN:VTIMEZONE
TZID:America/Chicago
BEGIN:DAYLIGHT
TZOFFSETFROM:-0600
TZOFFSETTO:-0500
TZNAME:CDT
DTSTART:20260308T080000
END:DAYLIGHT
BEGIN:STANDARD
TZOFFSETFROM:-0500
TZOFFSETTO:-0600
TZNAME:CST
DTSTART:20261101T070000
END:STANDARD
END:VTIMEZONE
BEGIN:VEVENT
DTSTART;TZID=America/Chicago:20260520T104500
DTEND;TZID=America/Chicago:20260520T114500
DTSTAMP:20260422T172658
CREATED:20260421T090835Z
LAST-MODIFIED:20260422T092345Z
UID:10005009-1779273900-1779277500@chaskaheights.com
SUMMARY:Movin' & Groovin'
DESCRIPTION:
URL:https://chaskaheights.com/event-calendar/movin-groovin-116/
LOCATION:Memory Care
CATEGORIES:Memory Care
END:VEVENT
BEGIN:VEVENT
DTSTART;TZID=America/Chicago:20260520T110000
DTEND;TZID=America/Chicago:20260520T120000
DTSTAMP:20260422T172658
CREATED:20260421T090853Z
LAST-MODIFIED:20260422T092200Z
UID:10005016-1779274800-1779278400@chaskaheights.com
SUMMARY:Rosary & Communion W/Father Tony
DESCRIPTION:
URL:https://chaskaheights.com/event-calendar/rosary-communion-w-father-tony-3/
LOCATION:Community Room
CATEGORIES:Independent and Assisted Living
END:VEVENT
BEGIN:VEVENT
DTSTART;TZID=America/Chicago:20260520T114500
DTEND;TZID=America/Chicago:20260520T120000
DTSTAMP:20260422T172658
CREATED:20260421T090836Z
LAST-MODIFIED:20260422T092345Z
UID:10005010-1779277500-1779278400@chaskaheights.com
SUMMARY:Oshibori
DESCRIPTION:A hot/warm towel is given to each resident before each meal to clean their hands. This provides comfort\, cleanliness\, and practices different traditions.
URL:https://chaskaheights.com/event-calendar/oshibori-781/
LOCATION:Memory Care
CATEGORIES:Memory Care
END:VEVENT
BEGIN:VEVENT
DTSTART;TZID=America/Chicago:20260520T130000
DTEND;TZID=America/Chicago:20260520T133000
DTSTAMP:20260422T172658
CREATED:20260421T090837Z
LAST-MODIFIED:20260422T092347Z
UID:10005011-1779282000-1779283800@chaskaheights.com
SUMMARY:Meditation Music/Quiet Time
DESCRIPTION:
URL:https://chaskaheights.com/event-calendar/meditation-music-quiet-time-391/
LOCATION:Memory Care
CATEGORIES:Memory Care
END:VEVENT
BEGIN:VEVENT
DTSTART;TZID=America/Chicago:20260520T130000
DTEND;TZID=America/Chicago:20260520T140000
DTSTAMP:20260422T172658
CREATED:20260421T090853Z
LAST-MODIFIED:20260422T092200Z
UID:10005017-1779282000-1779285600@chaskaheights.com
SUMMARY:Game 500
DESCRIPTION:
URL:https://chaskaheights.com/event-calendar/game-500-37/
LOCATION:Crosstown Dining Room
CATEGORIES:Independent and Assisted Living
END:VEVENT
BEGIN:VEVENT
DTSTART;TZID=America/Chicago:20260520T144500
DTEND;TZID=America/Chicago:20260520T151500
DTSTAMP:20260422T172658
CREATED:20260421T090838Z
LAST-MODIFIED:20260422T092347Z
UID:10005012-1779288300-1779290100@chaskaheights.com
SUMMARY:Snack & Chat
DESCRIPTION:
URL:https://chaskaheights.com/event-calendar/snack-chat-83/
LOCATION:Memory Care
CATEGORIES:Memory Care
END:VEVENT
BEGIN:VEVENT
DTSTART;TZID=America/Chicago:20260520T150000
DTEND;TZID=America/Chicago:20260520T160000
DTSTAMP:20260422T172658
CREATED:20260421T090853Z
LAST-MODIFIED:20260422T092200Z
UID:10005018-1779289200-1779292800@chaskaheights.com
SUMMARY:Bible Study W/ Chaplain Carol
DESCRIPTION:
URL:https://chaskaheights.com/event-calendar/bible-study-w-chaplain-carol-51/
LOCATION:Community Room
CATEGORIES:Independent and Assisted Living
END:VEVENT
BEGIN:VEVENT
DTSTART;TZID=America/Chicago:20260520T164500
DTEND;TZID=America/Chicago:20260520T170000
DTSTAMP:20260422T172658
CREATED:20260421T090838Z
LAST-MODIFIED:20260422T092348Z
UID:10005013-1779295500-1779296400@chaskaheights.com
SUMMARY:OshiBori
DESCRIPTION:A hot/warm towel is given to each resident before each meal to clean their hands. This provides comfort\, cleanliness\, and practices different traditions.
URL:https://chaskaheights.com/event-calendar/oshibori-782/
LOCATION:Memory Care
CATEGORIES:Memory Care
END:VEVENT
BEGIN:VEVENT
DTSTART;TZID=America/Chicago:20260520T173000
DTEND;TZID=America/Chicago:20260520T183000
DTSTAMP:20260422T172658
CREATED:20260421T090853Z
LAST-MODIFIED:20260422T092200Z
UID:10005019-1779298200-1779301800@chaskaheights.com
SUMMARY:Evening Movie~
DESCRIPTION:
URL:https://chaskaheights.com/event-calendar/evening-movie-29/
LOCATION:Community Room
CATEGORIES:Independent and Assisted Living
END:VEVENT
BEGIN:VEVENT
DTSTART;TZID=America/Chicago:20260520T173000
DTEND;TZID=America/Chicago:20260520T193000
DTSTAMP:20260422T172658
CREATED:20260421T090839Z
LAST-MODIFIED:20260422T092348Z
UID:10005014-1779298200-1779305400@chaskaheights.com
SUMMARY:Movie Night
DESCRIPTION:
URL:https://chaskaheights.com/event-calendar/movie-night-44/
CATEGORIES:Memory Care
END:VEVENT
BEGIN:VEVENT
DTSTART;TZID=America/Chicago:20260521T094500
DTEND;TZID=America/Chicago:20260521T100000
DTSTAMP:20260422T172658
CREATED:20260422T092348Z
LAST-MODIFIED:20260422T092348Z
UID:10005024-1779356700-1779357600@chaskaheights.com
SUMMARY:Daily Loop/ News
DESCRIPTION:
URL:https://chaskaheights.com/event-calendar/daily-loop-news-72/
LOCATION:Memory Care
CATEGORIES:Memory Care
END:VEVENT
BEGIN:VEVENT
DTSTART;TZID=America/Chicago:20260521T100000
DTEND;TZID=America/Chicago:20260521T103000
DTSTAMP:20260422T172658
CREATED:20260422T092201Z
LAST-MODIFIED:20260422T092201Z
UID:10005020-1779357600-1779359400@chaskaheights.com
SUMMARY:Daily Wellness Class
DESCRIPTION:Daily Wellness Classes vary from Seated Yoga\, Balance\, Weights\, Bands and Stretches to keep you fit.
URL:https://chaskaheights.com/event-calendar/daily-wellness-class-261/
LOCATION:Community Room
CATEGORIES:Independent and Assisted Living
END:VEVENT
BEGIN:VEVENT
DTSTART;TZID=America/Chicago:20260521T103000
DTEND;TZID=America/Chicago:20260521T113000
DTSTAMP:20260422T172658
CREATED:20260422T092348Z
LAST-MODIFIED:20260422T092348Z
UID:10005025-1779359400-1779363000@chaskaheights.com
SUMMARY:Sensory Activity
DESCRIPTION:
URL:https://chaskaheights.com/event-calendar/sensory-activity-56/
CATEGORIES:Memory Care
END:VEVENT
BEGIN:VEVENT
DTSTART;TZID=America/Chicago:20260521T114500
DTEND;TZID=America/Chicago:20260521T120000
DTSTAMP:20260422T172658
CREATED:20260422T092349Z
LAST-MODIFIED:20260422T092349Z
UID:10005026-1779363900-1779364800@chaskaheights.com
SUMMARY:Oshibori
DESCRIPTION:A hot/warm towel is given to each resident before each meal to clean their hands. This provides comfort\, cleanliness\, and practices different traditions.
URL:https://chaskaheights.com/event-calendar/oshibori-783/
LOCATION:Memory Care
CATEGORIES:Memory Care
END:VEVENT
BEGIN:VEVENT
DTSTART;TZID=America/Chicago:20260521T130000
DTEND;TZID=America/Chicago:20260521T140000
DTSTAMP:20260422T172658
CREATED:20260422T092202Z
LAST-MODIFIED:20260422T092202Z
UID:10005021-1779368400-1779372000@chaskaheights.com
SUMMARY:Stitch & Chat W Diane
DESCRIPTION:
URL:https://chaskaheights.com/event-calendar/stitch-chat-w-diane-52/
LOCATION:Lobby
CATEGORIES:Independent and Assisted Living
END:VEVENT
BEGIN:VEVENT
DTSTART;TZID=America/Chicago:20260521T130000
DTEND;TZID=America/Chicago:20260521T140000
DTSTAMP:20260422T172658
CREATED:20260422T092350Z
LAST-MODIFIED:20260422T092350Z
UID:10005027-1779368400-1779372000@chaskaheights.com
SUMMARY:Entertainment~ John Beck
DESCRIPTION:
URL:https://chaskaheights.com/event-calendar/entertainment-john-beck-2/
LOCATION:Memory Care
CATEGORIES:Memory Care
END:VEVENT
BEGIN:VEVENT
DTSTART;TZID=America/Chicago:20260521T140000
DTEND;TZID=America/Chicago:20260521T144500
DTSTAMP:20260422T172658
CREATED:20260422T092351Z
LAST-MODIFIED:20260422T092351Z
UID:10005028-1779372000-1779374700@chaskaheights.com
SUMMARY:Movin' & Goovin'
DESCRIPTION:
URL:https://chaskaheights.com/event-calendar/movin-goovin-15/
LOCATION:Memory Care
CATEGORIES:Memory Care
END:VEVENT
BEGIN:VEVENT
DTSTART;TZID=America/Chicago:20260521T144500
DTEND;TZID=America/Chicago:20260521T151500
DTSTAMP:20260422T172658
CREATED:20260422T092351Z
LAST-MODIFIED:20260422T092351Z
UID:10005029-1779374700-1779376500@chaskaheights.com
SUMMARY:Snack & Chat
DESCRIPTION:
URL:https://chaskaheights.com/event-calendar/snack-chat-84/
CATEGORIES:Memory Care
END:VEVENT
BEGIN:VEVENT
DTSTART;TZID=America/Chicago:20260521T150000
DTEND;TZID=America/Chicago:20260521T160000
DTSTAMP:20260422T172658
CREATED:20260422T092202Z
LAST-MODIFIED:20260422T092202Z
UID:10005022-1779375600-1779379200@chaskaheights.com
SUMMARY:Afternoon Tea
DESCRIPTION:
URL:https://chaskaheights.com/event-calendar/afternoon-tea-66/
LOCATION:Crosstown Dining Room
CATEGORIES:Independent and Assisted Living
END:VEVENT
BEGIN:VEVENT
DTSTART;TZID=America/Chicago:20260521T153000
DTEND;TZID=America/Chicago:20260521T163000
DTSTAMP:20260422T172658
CREATED:20260422T092351Z
LAST-MODIFIED:20260422T092351Z
UID:10005030-1779377400-1779381000@chaskaheights.com
SUMMARY:Senior Sing A Long
DESCRIPTION:
URL:https://chaskaheights.com/event-calendar/senior-sing-a-long-50/
CATEGORIES:Memory Care
END:VEVENT
BEGIN:VEVENT
DTSTART;TZID=America/Chicago:20260521T164500
DTEND;TZID=America/Chicago:20260521T170000
DTSTAMP:20260422T172658
CREATED:20260422T092351Z
LAST-MODIFIED:20260422T092351Z
UID:10005031-1779381900-1779382800@chaskaheights.com
SUMMARY:OshiBori
DESCRIPTION:A hot/warm towel is given to each resident before each meal to clean their hands. This provides comfort\, cleanliness\, and practices different traditions.
URL:https://chaskaheights.com/event-calendar/oshibori-784/
LOCATION:Memory Care
CATEGORIES:Memory Care
END:VEVENT
BEGIN:VEVENT
DTSTART;TZID=America/Chicago:20260521T180000
DTEND;TZID=America/Chicago:20260521T190000
DTSTAMP:20260422T172658
CREATED:20260422T092202Z
LAST-MODIFIED:20260422T092202Z
UID:10005023-1779386400-1779390000@chaskaheights.com
SUMMARY:Quarter Bingo
DESCRIPTION:Don’t forget your quarters for this super fun resident run Bingo!
URL:https://chaskaheights.com/event-calendar/quarter-bingo-52/
LOCATION:Community Room
CATEGORIES:Independent and Assisted Living
END:VEVENT
END:VCALENDAR