BEGIN:VCALENDAR
VERSION:2.0
PRODID:-//Chaska Heights Senior Living - ECPv6.11.2.1//NONSGML v1.0//EN
CALSCALE:GREGORIAN
METHOD:PUBLISH
X-ORIGINAL-URL:https://chaskaheights.com
X-WR-CALDESC:Events for Chaska Heights Senior Living
REFRESH-INTERVAL;VALUE=DURATION:PT1H
X-Robots-Tag:noindex
X-PUBLISHED-TTL:PT1H
BEGIN:VTIMEZONE
TZID:America/Chicago
BEGIN:DAYLIGHT
TZOFFSETFROM:-0600
TZOFFSETTO:-0500
TZNAME:CDT
DTSTART:20260308T080000
END:DAYLIGHT
BEGIN:STANDARD
TZOFFSETFROM:-0500
TZOFFSETTO:-0600
TZNAME:CST
DTSTART:20261101T070000
END:STANDARD
END:VTIMEZONE
BEGIN:VEVENT
DTSTART;TZID=America/Chicago:20260517T150000
DTEND;TZID=America/Chicago:20260517T160000
DTSTAMP:20260421T082303
CREATED:20260418T083855Z
LAST-MODIFIED:20260421T090851Z
UID:10004978-1779030000-1779033600@chaskaheights.com
SUMMARY:Coffee Social
DESCRIPTION:
URL:https://chaskaheights.com/event-calendar/coffee-social-40/
LOCATION:Crosstown Dining Room
CATEGORIES:Independent and Assisted Living
END:VEVENT
BEGIN:VEVENT
DTSTART;TZID=America/Chicago:20260518T100000
DTEND;TZID=America/Chicago:20260518T103000
DTSTAMP:20260421T082303
CREATED:20260419T085209Z
LAST-MODIFIED:20260421T090851Z
UID:10004986-1779098400-1779100200@chaskaheights.com
SUMMARY:Daily Wellness Class
DESCRIPTION:Daily Wellness Classes vary from Seated Yoga\, Balance\, Weights\, Bands and Stretches to keep you fit.
URL:https://chaskaheights.com/event-calendar/daily-wellness-class-258/
LOCATION:Community Room
CATEGORIES:Independent and Assisted Living
END:VEVENT
BEGIN:VEVENT
DTSTART;TZID=America/Chicago:20260518T110000
DTEND;TZID=America/Chicago:20260518T120000
DTSTAMP:20260421T082303
CREATED:20260419T085209Z
LAST-MODIFIED:20260421T090851Z
UID:10004987-1779102000-1779105600@chaskaheights.com
SUMMARY:Communion Worship Service W/ Chaplain Carol
DESCRIPTION:
URL:https://chaskaheights.com/event-calendar/communion-worship-service-w-chaplain-carol-12/
LOCATION:Community Room
CATEGORIES:Independent and Assisted Living
END:VEVENT
BEGIN:VEVENT
DTSTART;TZID=America/Chicago:20260518T130000
DTEND;TZID=America/Chicago:20260518T140000
DTSTAMP:20260421T082303
CREATED:20260419T085209Z
LAST-MODIFIED:20260421T090851Z
UID:10004988-1779109200-1779112800@chaskaheights.com
SUMMARY:CH Writers Club
DESCRIPTION:
URL:https://chaskaheights.com/event-calendar/ch-writers-club-27/
LOCATION:Johnathon Room
CATEGORIES:Independent and Assisted Living
END:VEVENT
BEGIN:VEVENT
DTSTART;TZID=America/Chicago:20260518T130000
DTEND;TZID=America/Chicago:20260518T140000
DTSTAMP:20260421T082303
CREATED:20260419T085209Z
LAST-MODIFIED:20260421T090851Z
UID:10004989-1779109200-1779112800@chaskaheights.com
SUMMARY:Resident Council
DESCRIPTION:
URL:https://chaskaheights.com/event-calendar/resident-council-13/
LOCATION:Community Room
CATEGORIES:Independent and Assisted Living
END:VEVENT
BEGIN:VEVENT
DTSTART;TZID=America/Chicago:20260518T150000
DTEND;TZID=America/Chicago:20260518T160000
DTSTAMP:20260421T082303
CREATED:20260419T085209Z
LAST-MODIFIED:20260421T090852Z
UID:10004990-1779116400-1779120000@chaskaheights.com
SUMMARY:Jeopardy
DESCRIPTION:
URL:https://chaskaheights.com/event-calendar/jeopardy-48/
LOCATION:Community Room
CATEGORIES:Independent and Assisted Living
END:VEVENT
BEGIN:VEVENT
DTSTART;TZID=America/Chicago:20260518T180000
DTEND;TZID=America/Chicago:20260518T190000
DTSTAMP:20260421T082303
CREATED:20260419T085210Z
LAST-MODIFIED:20260421T090852Z
UID:10004991-1779127200-1779130800@chaskaheights.com
SUMMARY:Chicken Foot Dominoes
DESCRIPTION:
URL:https://chaskaheights.com/event-calendar/chicken-foot-dominoes-53/
LOCATION:Crosstown Dining Room
CATEGORIES:Independent and Assisted Living
END:VEVENT
BEGIN:VEVENT
DTSTART;TZID=America/Chicago:20260519T100000
DTEND;TZID=America/Chicago:20260519T103000
DTSTAMP:20260421T082303
CREATED:20260420T085220Z
LAST-MODIFIED:20260421T090852Z
UID:10004992-1779184800-1779186600@chaskaheights.com
SUMMARY:Daily Wellness Class
DESCRIPTION:Daily Wellness Classes vary from Seated Yoga\, Balance\, Weights\, Bands and Stretches to keep you fit.
URL:https://chaskaheights.com/event-calendar/daily-wellness-class-259/
LOCATION:Community Room
CATEGORIES:Independent and Assisted Living
END:VEVENT
BEGIN:VEVENT
DTSTART;TZID=America/Chicago:20260519T110000
DTEND;TZID=America/Chicago:20260519T123000
DTSTAMP:20260421T082303
CREATED:20260420T085221Z
LAST-MODIFIED:20260421T090852Z
UID:10004993-1779188400-1779193800@chaskaheights.com
SUMMARY:Event Outing~ Arboretum
DESCRIPTION:
URL:https://chaskaheights.com/event-calendar/event-outing-arboretum/
LOCATION:Lobby
CATEGORIES:Independent and Assisted Living
END:VEVENT
BEGIN:VEVENT
DTSTART;TZID=America/Chicago:20260519T130000
DTEND;TZID=America/Chicago:20260519T140000
DTSTAMP:20260421T082303
CREATED:20260420T085221Z
LAST-MODIFIED:20260421T090852Z
UID:10004994-1779195600-1779199200@chaskaheights.com
SUMMARY:Robot Soccer
DESCRIPTION:
URL:https://chaskaheights.com/event-calendar/robot-soccer-4/
LOCATION:Wellness Center
CATEGORIES:Independent and Assisted Living
END:VEVENT
BEGIN:VEVENT
DTSTART;TZID=America/Chicago:20260519T140000
DTEND;TZID=America/Chicago:20260519T150000
DTSTAMP:20260421T082303
CREATED:20260420T085221Z
LAST-MODIFIED:20260421T090852Z
UID:10004995-1779199200-1779202800@chaskaheights.com
SUMMARY:Dominoes Mexican Train
DESCRIPTION:
URL:https://chaskaheights.com/event-calendar/dominoes-mexican-train-54/
LOCATION:Crosstown Dining Room
CATEGORIES:Independent and Assisted Living
END:VEVENT
BEGIN:VEVENT
DTSTART;TZID=America/Chicago:20260519T180000
DTEND;TZID=America/Chicago:20260519T184500
DTSTAMP:20260421T082303
CREATED:20260420T085222Z
LAST-MODIFIED:20260421T090852Z
UID:10004996-1779213600-1779216300@chaskaheights.com
SUMMARY:Prize Bingo W/ Dave
DESCRIPTION:Gather in the Crosstown Dining Room to win some yummy treats!
URL:https://chaskaheights.com/event-calendar/prize-bingo-w-dave-55/
LOCATION:Crosstown Dining Room
CATEGORIES:Independent and Assisted Living
END:VEVENT
BEGIN:VEVENT
DTSTART;TZID=America/Chicago:20260520T100000
DTEND;TZID=America/Chicago:20260520T103000
DTSTAMP:20260421T082303
CREATED:20260421T090852Z
LAST-MODIFIED:20260421T090852Z
UID:10005015-1779271200-1779273000@chaskaheights.com
SUMMARY:Daily Wellness Class
DESCRIPTION:Daily Wellness Classes vary from Seated Yoga\, Balance\, Weights\, Bands and Stretches to keep you fit.
URL:https://chaskaheights.com/event-calendar/daily-wellness-class-260/
LOCATION:Community Room
CATEGORIES:Independent and Assisted Living
END:VEVENT
BEGIN:VEVENT
DTSTART;TZID=America/Chicago:20260520T110000
DTEND;TZID=America/Chicago:20260520T120000
DTSTAMP:20260421T082303
CREATED:20260421T090853Z
LAST-MODIFIED:20260421T090853Z
UID:10005016-1779274800-1779278400@chaskaheights.com
SUMMARY:Rosary & Communion W/Father Tony
DESCRIPTION:
URL:https://chaskaheights.com/event-calendar/rosary-communion-w-father-tony-3/
LOCATION:Community Room
CATEGORIES:Independent and Assisted Living
END:VEVENT
BEGIN:VEVENT
DTSTART;TZID=America/Chicago:20260520T130000
DTEND;TZID=America/Chicago:20260520T140000
DTSTAMP:20260421T082303
CREATED:20260421T090853Z
LAST-MODIFIED:20260421T090853Z
UID:10005017-1779282000-1779285600@chaskaheights.com
SUMMARY:Game 500
DESCRIPTION:
URL:https://chaskaheights.com/event-calendar/game-500-37/
LOCATION:Crosstown Dining Room
CATEGORIES:Independent and Assisted Living
END:VEVENT
BEGIN:VEVENT
DTSTART;TZID=America/Chicago:20260520T150000
DTEND;TZID=America/Chicago:20260520T160000
DTSTAMP:20260421T082303
CREATED:20260421T090853Z
LAST-MODIFIED:20260421T090853Z
UID:10005018-1779289200-1779292800@chaskaheights.com
SUMMARY:Bible Study W/ Chaplain Carol
DESCRIPTION:
URL:https://chaskaheights.com/event-calendar/bible-study-w-chaplain-carol-51/
LOCATION:Community Room
CATEGORIES:Independent and Assisted Living
END:VEVENT
BEGIN:VEVENT
DTSTART;TZID=America/Chicago:20260520T173000
DTEND;TZID=America/Chicago:20260520T183000
DTSTAMP:20260421T082303
CREATED:20260421T090853Z
LAST-MODIFIED:20260421T090853Z
UID:10005019-1779298200-1779301800@chaskaheights.com
SUMMARY:Evening Movie~
DESCRIPTION:
URL:https://chaskaheights.com/event-calendar/evening-movie-29/
LOCATION:Community Room
CATEGORIES:Independent and Assisted Living
END:VEVENT
END:VCALENDAR