BEGIN:VCALENDAR
VERSION:2.0
PRODID:-//Chaska Heights Senior Living - ECPv6.11.2.1//NONSGML v1.0//EN
CALSCALE:GREGORIAN
METHOD:PUBLISH
X-WR-CALNAME:Chaska Heights Senior Living
X-ORIGINAL-URL:https://chaskaheights.com
X-WR-CALDESC:Events for Chaska Heights Senior Living
REFRESH-INTERVAL;VALUE=DURATION:PT1H
X-Robots-Tag:noindex
X-PUBLISHED-TTL:PT1H
BEGIN:VTIMEZONE
TZID:America/Chicago
BEGIN:DAYLIGHT
TZOFFSETFROM:-0600
TZOFFSETTO:-0500
TZNAME:CDT
DTSTART:20250309T080000
END:DAYLIGHT
BEGIN:STANDARD
TZOFFSETFROM:-0500
TZOFFSETTO:-0600
TZNAME:CST
DTSTART:20251102T070000
END:STANDARD
END:VTIMEZONE
BEGIN:VEVENT
DTSTART;TZID=America/Chicago:20250728T094500
DTEND;TZID=America/Chicago:20250728T100000
DTSTAMP:20260419T100819
CREATED:20250629T005340Z
LAST-MODIFIED:20250728T052147Z
UID:10000994-1753695900-1753696800@chaskaheights.com
SUMMARY:Daily Chronicle/ News
DESCRIPTION:
URL:https://chaskaheights.com/event-calendar/daily-chronicle-news-75/
LOCATION:Memory Care
CATEGORIES:Memory Care
END:VEVENT
BEGIN:VEVENT
DTSTART;TZID=America/Chicago:20250728T100000
DTEND;TZID=America/Chicago:20250728T103000
DTSTAMP:20260419T100819
CREATED:20250628T232238Z
LAST-MODIFIED:20250728T000709Z
UID:10000990-1753696800-1753698600@chaskaheights.com
SUMMARY:Daily Wellness Class
DESCRIPTION:Daily Wellness Classes vary from Seated Yoga\, Balance\, Weights\, Bands and Stretches to keep you fit.
URL:https://chaskaheights.com/event-calendar/daily-wellness-class-52/
LOCATION:Community Room
CATEGORIES:Independent and Assisted Living
END:VEVENT
BEGIN:VEVENT
DTSTART;TZID=America/Chicago:20250728T100000
DTEND;TZID=America/Chicago:20250728T103000
DTSTAMP:20260419T100819
CREATED:20250629T005340Z
LAST-MODIFIED:20250728T052147Z
UID:10000995-1753696800-1753698600@chaskaheights.com
SUMMARY:Sensory Games
DESCRIPTION:
URL:https://chaskaheights.com/event-calendar/sensory-games-32/
LOCATION:Wellness Center
CATEGORIES:Memory Care
END:VEVENT
BEGIN:VEVENT
DTSTART;TZID=America/Chicago:20250728T114500
DTEND;TZID=America/Chicago:20250728T120000
DTSTAMP:20260419T100819
CREATED:20250629T005340Z
LAST-MODIFIED:20250728T052148Z
UID:10000996-1753703100-1753704000@chaskaheights.com
SUMMARY:Oshibori
DESCRIPTION:A hot/warm towel is given to each resident before each meal to clean their hands. This provides comfort\, cleanliness\, and practices different traditions.
URL:https://chaskaheights.com/event-calendar/oshibori-154/
LOCATION:Memory Care
CATEGORIES:Memory Care
END:VEVENT
BEGIN:VEVENT
DTSTART;TZID=America/Chicago:20250728T130000
DTEND;TZID=America/Chicago:20250728T133000
DTSTAMP:20260419T100819
CREATED:20250629T005341Z
LAST-MODIFIED:20250728T052148Z
UID:10000997-1753707600-1753709400@chaskaheights.com
SUMMARY:Meditation Music/Quiet Time
DESCRIPTION:
URL:https://chaskaheights.com/event-calendar/meditation-music-quiet-time-76/
LOCATION:Memory Care
CATEGORIES:Memory Care
END:VEVENT
BEGIN:VEVENT
DTSTART;TZID=America/Chicago:20250728T130000
DTEND;TZID=America/Chicago:20250728T140000
DTSTAMP:20260419T100819
CREATED:20250628T232238Z
LAST-MODIFIED:20250728T000709Z
UID:10000991-1753707600-1753711200@chaskaheights.com
SUMMARY:Gratitude Time W/Erin
DESCRIPTION:Come and Join our Nursing Director Erin in this fun filled activity. This is a wonderful time to get to know each other\, share memories\, write\, decorate\, and be in full community. It also aids in improving sleep\, increasing social connections\, providing a sense of purpose\, and coping with life’s challenges. The activity will enhance emotional well-being\, foster mental health\, and strengthen memory and cognitive function.
URL:https://chaskaheights.com/event-calendar/gratitude-time-w-erin-5/
LOCATION:Community Room
CATEGORIES:Independent and Assisted Living
END:VEVENT
BEGIN:VEVENT
DTSTART;TZID=America/Chicago:20250728T141500
DTEND;TZID=America/Chicago:20250728T150000
DTSTAMP:20260419T100819
CREATED:20250629T005341Z
LAST-MODIFIED:20250728T052148Z
UID:10000998-1753712100-1753714800@chaskaheights.com
SUMMARY:Mindful Movement
DESCRIPTION:
URL:https://chaskaheights.com/event-calendar/mindful-movement-76/
LOCATION:Memory Care
CATEGORIES:Memory Care
END:VEVENT
BEGIN:VEVENT
DTSTART;TZID=America/Chicago:20250728T150000
DTEND;TZID=America/Chicago:20250728T160000
DTSTAMP:20260419T100819
CREATED:20250628T232238Z
LAST-MODIFIED:20250728T052148Z
UID:10000992-1753714800-1753718400@chaskaheights.com
SUMMARY:Entertainment~Mary Hall
DESCRIPTION:
URL:https://chaskaheights.com/event-calendar/entertainmentmary-hall/
LOCATION:Dining Room
CATEGORIES:Independent and Assisted Living,Memory Care
END:VEVENT
BEGIN:VEVENT
DTSTART;TZID=America/Chicago:20250728T150000
DTEND;TZID=America/Chicago:20250728T160000
DTSTAMP:20260419T100819
CREATED:20250629T005341Z
LAST-MODIFIED:20250728T052148Z
UID:10000999-1753714800-1753718400@chaskaheights.com
SUMMARY:Ice Cream Social & Bingo
DESCRIPTION:
URL:https://chaskaheights.com/event-calendar/ice-cream-social-bingo-11/
LOCATION:Memory Care
CATEGORIES:Memory Care
END:VEVENT
BEGIN:VEVENT
DTSTART;TZID=America/Chicago:20250728T160000
DTEND;TZID=America/Chicago:20250728T170000
DTSTAMP:20260419T100819
CREATED:20250715T022232Z
LAST-MODIFIED:20250728T052148Z
UID:10001227-1753718400-1753722000@chaskaheights.com
SUMMARY:Travel Tales
DESCRIPTION:
URL:https://chaskaheights.com/event-calendar/travel-tales-15/
CATEGORIES:Memory Care
END:VEVENT
BEGIN:VEVENT
DTSTART;TZID=America/Chicago:20250728T170000
DTEND;TZID=America/Chicago:20250728T171500
DTSTAMP:20260419T100819
CREATED:20250629T005341Z
LAST-MODIFIED:20250728T052149Z
UID:10001000-1753722000-1753722900@chaskaheights.com
SUMMARY:OshiBori
DESCRIPTION:A hot/warm towel is given to each resident before each meal to clean their hands. This provides comfort\, cleanliness\, and practices different traditions.
URL:https://chaskaheights.com/event-calendar/oshibori-155/
LOCATION:Memory Care
CATEGORIES:Memory Care
END:VEVENT
BEGIN:VEVENT
DTSTART;TZID=America/Chicago:20250728T180000
DTEND;TZID=America/Chicago:20250728T190000
DTSTAMP:20260419T100819
CREATED:20250628T232238Z
LAST-MODIFIED:20250728T000709Z
UID:10000993-1753725600-1753729200@chaskaheights.com
SUMMARY:Chicken Foot Dominoes
DESCRIPTION:
URL:https://chaskaheights.com/event-calendar/chicken-foot-dominoes-11/
LOCATION:Crosstown Dining Room
CATEGORIES:Independent and Assisted Living
END:VEVENT
BEGIN:VEVENT
DTSTART;TZID=America/Chicago:20250728T183000
DTEND;TZID=America/Chicago:20250728T190000
DTSTAMP:20260419T100819
CREATED:20250629T005342Z
LAST-MODIFIED:20250728T052149Z
UID:10001001-1753727400-1753729200@chaskaheights.com
SUMMARY:Ring Toss
DESCRIPTION:
URL:https://chaskaheights.com/event-calendar/ring-toss-22/
LOCATION:Memory Care
CATEGORIES:Memory Care
END:VEVENT
END:VCALENDAR